BEGIN:VCALENDAR
VERSION:2.0
PRODID:-//wp-events-plugin.com//6.6.1//ENBEGIN:VCALENDAR
VERSION:2.0
PRODID:-//wp-events-plugin.com//6.6.1//EN
BEGIN:VEVENT
UID:0-58@capsf.ar
DTSTART;TZID=America/Argentina/Buenos_Aires;VALUE=DATE:20260514
DTEND;TZID=America/Argentina/Buenos_Aires;VALUE=DATE:20260515
DTSTAMP:20260422T145511Z
URL:https://capsf.ar/capacitaciones/24576/
SUMMARY:HIGIENE Y SEGURIDAD PARA PROYECTISTAS Y DIRECTORES/AS DE OBRA
DESCRIPTION:Dictado por: Ing. Laboral Marcelo Ibáñez y Lic. en Higiene y 
 Seguridad en el Trabajo Nicolás Guardatti\, profesionales especialistas m
 iembros del Centro de Desarrollo Tecnológico en Salud y Seguridad Edilici
 a (cdt-SaSEd) / FAPyD-UNR&#x1f4bb\; 3 encuentros virtuales de 2 h &#x1f4c5
 \; Jueves 14\, 21 y 28 de mayo de 2026&#x1f550\; 18:00 a 20:00 h\n
ATTACH;FMTTYPE=image/jpeg:https://capsf.ar/wp-content/uploads/2026/04/2604
 22-hys-flyer.jpeg
CATEGORIES:VIRTUAL
LOCATION:CAU DSP\, Avenida Belgrano 646\, Rosario\, Santa Fe\, S2000\, Arge
 ntina
X-APPLE-STRUCTURED-LOCATION;VALUE=URI;X-ADDRESS=Avenida Belgrano 646\, Rosa
 rio\, Santa Fe\, S2000\, Argentina;X-APPLE-RADIUS=100;X-TITLE=CAU DSP:geo:
 0,0
END:VEVENT
BEGIN:VTIMEZONE
TZID:America/Argentina/Buenos_Aires
X-LIC-LOCATION:America/Argentina/Buenos_Aires
BEGIN:STANDARD
DTSTART:20250514T000000
TZOFFSETFROM:-0300
TZOFFSETTO:-0300
TZNAME:-03
END:STANDARD
END:VTIMEZONE
END:VCALENDAR