BEGIN:VCALENDAR
VERSION:2.0
PRODID:-//wp-events-plugin.com//6.6.1//ENBEGIN:VCALENDAR
VERSION:2.0
PRODID:-//wp-events-plugin.com//6.6.1//EN
BEGIN:VEVENT
UID:0-12@capsf.ar
DTSTART;TZID=America/Argentina/Buenos_Aires;VALUE=DATE:20230731
DTEND;TZID=America/Argentina/Buenos_Aires;VALUE=DATE:20230801
DTSTAMP:20230713T231520Z
URL:https://capsf.ar/capacitaciones/especializacion-en-carpinterias-de-alu
 minio/
SUMMARY:ESPECIALIZACIÓN EN CARPINTERÍAS DE ALUMINIO
DESCRIPTION:\n &#x1f4bb\; 4 clases virtuales de 2 hs + 1 Visita a planta.&#
 x1f4c5\;&nbsp\; Lunes 31 de julio\, 7\, 14 y 28 de agosto.&#x1f556\; 18:30
  a 20:30 hs por Zoom.\n\n&#x1f477\; VISITA A PLANTA (opcional)\n
ATTACH;FMTTYPE=image/jpeg:https://capsf.ar/wp-content/uploads/2023/06/cap-
 aberturas.png
CATEGORIES:PRESENCIAL,VIRTUAL
LOCATION:CAU DSP\, Avenida Belgrano 646\, Rosario\, Santa Fe\, S2000\, Arge
 ntina
X-APPLE-STRUCTURED-LOCATION;VALUE=URI;X-ADDRESS=Avenida Belgrano 646\, Rosa
 rio\, Santa Fe\, S2000\, Argentina;X-APPLE-RADIUS=100;X-TITLE=CAU DSP:geo:
 0,0
END:VEVENT
BEGIN:VTIMEZONE
TZID:America/Argentina/Buenos_Aires
X-LIC-LOCATION:America/Argentina/Buenos_Aires
BEGIN:STANDARD
DTSTART:20220731T000000
TZOFFSETFROM:-0300
TZOFFSETTO:-0300
TZNAME:-03
END:STANDARD
END:VTIMEZONE
END:VCALENDAR